BEGIN:VCALENDAR
PRODID:-//PUBBLE//agenda//NL
VERSION:2.0
METHOD:PUBLISH
BEGIN:VEVENT
DTSTART:20241127T165646Z
DTEND:20241127T175646Z
DTSTAMP:20260426T032146Z
UID:f1c1dc49-2060-4574-bf5a-4592038353fb
CREATED:20260426T032146Z
NAME:Kerstzangdienst Koor Jubilee PKN kerk Kuinre dekopvan.nl
X-WR-CALNAME:Kerstzangdienst Koor Jubilee PKN kerk Kuinre
X-ALT-DESC;FMTTYPE=text/html:<a href='/agenda/2024/12/8/kerstzangdienst-koor-jubilee-pkn-kerk-kuinre-322129'>/agenda/2024/12/8/kerstzangdienst-koor-jubilee-pkn-kerk-kuinre-322129</a> || <p>KUINRE - Op zondag 8 december houdt het koor JUBILEE uit Kuinre in de PKN Kerk haar jaarlijkse Kerstzangdienst onder leiding van dirigent Henk Boeve.&nbsp;</p><p>&nbsp;De Chr. Brassband de Woldklank uit Steenwijkerwold onder leiding van Ellis Nijdam zal voor deze avond haar medewerking verlenen. Ook zingen de bezoekers enkele liederen onder begeleiding van organist Theun Hoen.&nbsp;</p><p>Adres: PKN Kerk: H. de Cranestraat 41 in Kuinre. U bent van harte uitgenodigd voor deze avond. Aan het einde van deze avond zal er een collecte worden gehouden voor de gemaakte kosten. Aanvang: 19.30 uur.</p>
DESCRIPTION:<a href='/agenda/2024/12/8/kerstzangdienst-koor-jubilee-pkn-kerk-kuinre-322129'>/agenda/2024/12/8/kerstzangdienst-koor-jubilee-pkn-kerk-kuinre-322129</a> || <p>KUINRE - Op zondag 8 december houdt het koor JUBILEE uit Kuinre in de PKN Kerk haar jaarlijkse Kerstzangdienst onder leiding van dirigent Henk Boeve.&nbsp;</p><p>&nbsp;De Chr. Brassband de Woldklank uit Steenwijkerwold onder leiding van Ellis Nijdam zal voor deze avond haar medewerking verlenen. Ook zingen de bezoekers enkele liederen onder begeleiding van organist Theun Hoen.&nbsp;</p><p>Adres: PKN Kerk: H. de Cranestraat 41 in Kuinre. U bent van harte uitgenodigd voor deze avond. Aan het einde van deze avond zal er een collecte worden gehouden voor de gemaakte kosten. Aanvang: 19.30 uur.</p>
LAST-MODIFIED:20260426T032146Z
LOCATION: Kuinre, KPN-Kerk | H. de Cranestraat 41  Steenwijkerland
SEQUENCE:0
STATUS:CONFIRMED
SUMMARY:Kerstzangdienst Koor Jubilee PKN kerk Kuinre
TRANSP:OPAQUE
END:VEVENT
END:VCALENDAR
