BEGIN:VCALENDAR
PRODID:-//PUBBLE//agenda//NL
VERSION:2.0
METHOD:PUBLISH
BEGIN:VEVENT
DTSTART:20250602T143317Z
DTEND:20250611T141500Z
DTSTAMP:20260422T090929Z
UID:38d80218-fa6d-44a5-9587-baa321f907fe
CREATED:20260422T090929Z
NAME:Speel, lach en ontdek op de Buitenspeeldag Vollenhove! dekopvan.nl
X-WR-CALNAME:Speel, lach en ontdek op de Buitenspeeldag Vollenhove!
X-ALT-DESC;FMTTYPE=text/html:<a href='/agenda/2025/6/11/speel-lach-en-ontdek-op-de-buitenspeeldag-vollenhove--335762'>/agenda/2025/6/11/speel-lach-en-ontdek-op-de-buitenspeeldag-vollenhove--335762</a> || <p>VOLLENHOVE - Op woensdag 11 juni is het zover: de Nationale Buitenspeeldag! Door heel Nederland worden kinderen uitgedaagd om lekker naar buiten te gaan. Ook in Vollenhove maken we er een geweldig feest van voor alle kinderen tot en met 12 jaar. Van 14.15 tot 16.15 uur verandert Sportpark De Benten in een avontuurlijk speelparadijs vol sport, spel en plezier.</p><p><strong>Een middag vol uitdagingen en avontuur</strong><br>Klimmen en klauteren over de stormbaan, je eigen hut of tipi bouwen, zandkastelen maken of voetballen als een echte prof – het kan allemaal. Voor de jongste kinderen is er een grote zandbak en een gezellige speelhoek. Overal op het terrein zijn er leuke spelletjes en sportieve uitdagingen.</p><p><strong>Waarom buiten spelen zo belangrijk is</strong><br>Buitenspelen is niet alleen leuk, het is ook hartstikke gezond. Het prikkelt de fantasie, houdt kinderen in beweging en helpt hen om nieuwe vriendjes te maken. Omdat veel kinderen tegenwoordig (te) weinig buiten spelen, is deze dag een prachtige kans om samen volop actief te zijn.</p><p><strong>Voor alle kinderen tot en met groep 8</strong><br>De Buitenspeeldag is er voor iedereen tot en met groep 8. Meedoen is helemaal gratis! Tijdens de middag is er een gezond tussendoortje en drinken voor de kinderen. Ouders en verzorgers zijn van harte welkom om te komen kijken en meespelen en kunnen in bij kantine genieten van een kopje koffie of thee.</p><p><strong>Al 11 jaar samen georganiseerd</strong><br>De Buitenspeeldag Vollenhove wordt dit jaar alweer voor de elfde keer georganiseerd door Stichting JY doet, samen met de Junior Denktank op het terrein van SV VENO. Dankzij de inzet van vele vrijwilligers en de medewerking van lokale partners belooft het weer een fantastische middag te worden.</p><p><strong>Ben jij erbij?</strong><br>Pak je sportieve schoenen, verzamel al je vriendjes en vriendinnetjes en kom woensdag 11 juni naar Sportpark De Benten. Ontdek, speel en beleef het plezier van de Buitenspeeldag Vollenhove! Samen maken we er een onvergetelijke dag van.</p>
DESCRIPTION:<a href='/agenda/2025/6/11/speel-lach-en-ontdek-op-de-buitenspeeldag-vollenhove--335762'>/agenda/2025/6/11/speel-lach-en-ontdek-op-de-buitenspeeldag-vollenhove--335762</a> || <p>VOLLENHOVE - Op woensdag 11 juni is het zover: de Nationale Buitenspeeldag! Door heel Nederland worden kinderen uitgedaagd om lekker naar buiten te gaan. Ook in Vollenhove maken we er een geweldig feest van voor alle kinderen tot en met 12 jaar. Van 14.15 tot 16.15 uur verandert Sportpark De Benten in een avontuurlijk speelparadijs vol sport, spel en plezier.</p><p><strong>Een middag vol uitdagingen en avontuur</strong><br>Klimmen en klauteren over de stormbaan, je eigen hut of tipi bouwen, zandkastelen maken of voetballen als een echte prof – het kan allemaal. Voor de jongste kinderen is er een grote zandbak en een gezellige speelhoek. Overal op het terrein zijn er leuke spelletjes en sportieve uitdagingen.</p><p><strong>Waarom buiten spelen zo belangrijk is</strong><br>Buitenspelen is niet alleen leuk, het is ook hartstikke gezond. Het prikkelt de fantasie, houdt kinderen in beweging en helpt hen om nieuwe vriendjes te maken. Omdat veel kinderen tegenwoordig (te) weinig buiten spelen, is deze dag een prachtige kans om samen volop actief te zijn.</p><p><strong>Voor alle kinderen tot en met groep 8</strong><br>De Buitenspeeldag is er voor iedereen tot en met groep 8. Meedoen is helemaal gratis! Tijdens de middag is er een gezond tussendoortje en drinken voor de kinderen. Ouders en verzorgers zijn van harte welkom om te komen kijken en meespelen en kunnen in bij kantine genieten van een kopje koffie of thee.</p><p><strong>Al 11 jaar samen georganiseerd</strong><br>De Buitenspeeldag Vollenhove wordt dit jaar alweer voor de elfde keer georganiseerd door Stichting JY doet, samen met de Junior Denktank op het terrein van SV VENO. Dankzij de inzet van vele vrijwilligers en de medewerking van lokale partners belooft het weer een fantastische middag te worden.</p><p><strong>Ben jij erbij?</strong><br>Pak je sportieve schoenen, verzamel al je vriendjes en vriendinnetjes en kom woensdag 11 juni naar Sportpark De Benten. Ontdek, speel en beleef het plezier van de Buitenspeeldag Vollenhove! Samen maken we er een onvergetelijke dag van.</p>
LAST-MODIFIED:20260422T090929Z
LOCATION: Vollenhove, Sportpark De Beten | Aan Boord 1 Steenwijkerland
SEQUENCE:0
STATUS:CONFIRMED
SUMMARY:Speel, lach en ontdek op de Buitenspeeldag Vollenhove!
TRANSP:OPAQUE
END:VEVENT
END:VCALENDAR
