BEGIN:VCALENDAR
PRODID:-//PUBBLE//agenda//NL
VERSION:2.0
METHOD:PUBLISH
BEGIN:VEVENT
DTSTART:20250902T195052Z
DTEND:20251031T150000Z
DTSTAMP:20260426T040547Z
UID:b5f5ba3a-9b96-4029-a02f-d370e9f464ef
CREATED:20260426T040547Z
NAME:80 jaar vrijheid Vollenhove herdacht met expo dekopvan.nl
X-WR-CALNAME:80 jaar vrijheid Vollenhove herdacht met expo
X-ALT-DESC;FMTTYPE=text/html:<a href='/agenda/2025/9/4/80-jaar-vrijheid-vollenhove-herdacht-met-expo-341456'>/agenda/2025/9/4/80-jaar-vrijheid-vollenhove-herdacht-met-expo-341456</a> || <p class="Intro" pstyle="Intro">VOLLENHOVE – Het feit dat het 80 jaar geleden is dat Vollenhove is bevrijd wordt herdacht met een tentoonstelling. Plaats van handeling is het stadsmuseum. Daar is vanaf 4 september een expositie ingericht die duurt tot eind oktober.</p><p>Tevens is er een lezing over dit onderwerp op woensdagavond 1 oktober om 20.00 uur in het museum en ook is er een rondwandeling (langs de markante plaatsen) op zaterdag 4 oktober. De start van de rondwandeling is om 14.00 uur vanaf het museum aan de Bisschopstraat 36 in Vollenhove.</p><p>Voor beide activiteiten is vooraf reserveren niet nodig maar wel gewenst. Dat kan via mailadres reserveringen@chcvollenhove.nl of door, tijdens openingstijden, te bellen met 0527-244413. Aan de deelname van de wandeling en/of de lezing zijn geen kosten verbonden. Voor het bezichtigen van de tentoonstelling en de andere onderwerpen in het museum gelden de normale entreeprijzen. Donateurs en houders museumkaart kunnen gratis naar binnen.</p>
DESCRIPTION:<a href='/agenda/2025/9/4/80-jaar-vrijheid-vollenhove-herdacht-met-expo-341456'>/agenda/2025/9/4/80-jaar-vrijheid-vollenhove-herdacht-met-expo-341456</a> || <p class="Intro" pstyle="Intro">VOLLENHOVE – Het feit dat het 80 jaar geleden is dat Vollenhove is bevrijd wordt herdacht met een tentoonstelling. Plaats van handeling is het stadsmuseum. Daar is vanaf 4 september een expositie ingericht die duurt tot eind oktober.</p><p>Tevens is er een lezing over dit onderwerp op woensdagavond 1 oktober om 20.00 uur in het museum en ook is er een rondwandeling (langs de markante plaatsen) op zaterdag 4 oktober. De start van de rondwandeling is om 14.00 uur vanaf het museum aan de Bisschopstraat 36 in Vollenhove.</p><p>Voor beide activiteiten is vooraf reserveren niet nodig maar wel gewenst. Dat kan via mailadres reserveringen@chcvollenhove.nl of door, tijdens openingstijden, te bellen met 0527-244413. Aan de deelname van de wandeling en/of de lezing zijn geen kosten verbonden. Voor het bezichtigen van de tentoonstelling en de andere onderwerpen in het museum gelden de normale entreeprijzen. Donateurs en houders museumkaart kunnen gratis naar binnen.</p>
LAST-MODIFIED:20260426T040547Z
LOCATION: Vollenhove, Stadsmuseum | Bisschopstraat 36 Steenwijkerland
SEQUENCE:0
STATUS:CONFIRMED
SUMMARY:80 jaar vrijheid Vollenhove herdacht met expo
TRANSP:OPAQUE
END:VEVENT
END:VCALENDAR
