BEGIN:VCALENDAR
PRODID:-//PUBBLE//agenda//NL
VERSION:2.0
METHOD:PUBLISH
BEGIN:VEVENT
DTSTART:20251018T110000Z
DTEND:20251018T140000Z
DTSTAMP:20260424T080105Z
UID:9f6b8a85-8e35-4bbd-b82c-bfd08ef29e0f
CREATED:20260424T080105Z
NAME:Laarzendag in Nationaal Park Drents-Friese Wold dekopvan.nl
X-WR-CALNAME:Laarzendag in Nationaal Park Drents-Friese Wold
X-ALT-DESC;FMTTYPE=text/html:<a href='/agenda/2025/10/18/laarzendag-in-nationaal-park-drents-friese-wold-344506'>/agenda/2025/10/18/laarzendag-in-nationaal-park-drents-friese-wold-344506</a> || <p>DIEVER - Zet je laarzen klaar voor Laarzendag op 18 oktober 2025! In alle nationale parken van Nederland spelen er unieke wateruitdagingen. Het zijn de meest karakteristieke natuurgebieden van Nederland. Het zijn plekken waar je geniet van de mooiste natuur en die een thuis zijn voor bijzondere planten en dieren. Te veel, te weinig of te vies water heeft hier direct invloed op de natuur.<br /> <br />Op 18 oktober kan je in Nationaal Park Drents-Friese Wold met je gezin op pad in het gebied. Leer over de invloed van water en stamp met je laarzen in de plassen. Tussen 13.00 en 16.00 uur staat alles in het teken van modderpret en natuurbeleving. Kinderen én volwassenen kunnen zich uitleven tijdens de wedstrijd plassen stampen bij Natuur Educatiecentrum Diever (Haarweg 2, 7981 LW Diever).<br /> <br />Een middag vol energie, natuur en plezier – plassen gegarandeerd!</p>
DESCRIPTION:<a href='/agenda/2025/10/18/laarzendag-in-nationaal-park-drents-friese-wold-344506'>/agenda/2025/10/18/laarzendag-in-nationaal-park-drents-friese-wold-344506</a> || <p>DIEVER - Zet je laarzen klaar voor Laarzendag op 18 oktober 2025! In alle nationale parken van Nederland spelen er unieke wateruitdagingen. Het zijn de meest karakteristieke natuurgebieden van Nederland. Het zijn plekken waar je geniet van de mooiste natuur en die een thuis zijn voor bijzondere planten en dieren. Te veel, te weinig of te vies water heeft hier direct invloed op de natuur.<br /> <br />Op 18 oktober kan je in Nationaal Park Drents-Friese Wold met je gezin op pad in het gebied. Leer over de invloed van water en stamp met je laarzen in de plassen. Tussen 13.00 en 16.00 uur staat alles in het teken van modderpret en natuurbeleving. Kinderen én volwassenen kunnen zich uitleven tijdens de wedstrijd plassen stampen bij Natuur Educatiecentrum Diever (Haarweg 2, 7981 LW Diever).<br /> <br />Een middag vol energie, natuur en plezier – plassen gegarandeerd!</p>
LAST-MODIFIED:20260424T080105Z
LOCATION: Diever,  Natuureducatie Centrum Drents Friese Wold | Haarweg  2 Westerveld
SEQUENCE:0
STATUS:CONFIRMED
SUMMARY:Laarzendag in Nationaal Park Drents-Friese Wold
TRANSP:OPAQUE
END:VEVENT
END:VCALENDAR
