BEGIN:VCALENDAR
PRODID:-//PUBBLE//agenda//NL
VERSION:2.0
METHOD:PUBLISH
BEGIN:VEVENT
DTSTART:20260324T154032Z
DTEND:20260324T164032Z
DTSTAMP:20260420T133556Z
UID:dac260cc-8c3d-47eb-a359-4505d79af257
CREATED:20260420T133556Z
NAME:Scootmobieldag in De Meenthe in Steenwijk dekopvan.nl
X-WR-CALNAME:Scootmobieldag in De Meenthe in Steenwijk
X-ALT-DESC;FMTTYPE=text/html:<a href='/agenda/2026/4/22/scootmobieldag-in-de-meenthe-in-steenwijk-358521'>/agenda/2026/4/22/scootmobieldag-in-de-meenthe-in-steenwijk-358521</a> || <p>STEENWIJK -<strong> </strong>Veilig Verkeer Nederland, afdeling Steenwijkerland, organiseert op woensdga 22 april een scootmobieldag in De Meenthe. Deze dag is voor mensen die hun kennis van verkeersregels willen opfrissen en hun vaardigheden met de scootmobiel willen trainen. 
</p><p>Rij-instructeur Dick Slot geeft uitleg over de belangrijkste verkeersregels. Daarnaast is er gelegenheid om met de scootmobiel te oefenen.
</p><p>De bijeenkomst duurt van 9.30 tot 15.00 uur en is inclusief lunch, koffie, thee of een ander drankje en een scootmobieltocht. Deelname kost 5 euro.
</p><p>Aanmelden kan tot 8 april via scootmobiel@vvnsteenwijkerland.nl of telefonisch via 06-16235375. Daarbij wordt gevraagd eventuele dieetwensen door te geven. </p>
DESCRIPTION:<a href='/agenda/2026/4/22/scootmobieldag-in-de-meenthe-in-steenwijk-358521'>/agenda/2026/4/22/scootmobieldag-in-de-meenthe-in-steenwijk-358521</a> || <p>STEENWIJK -<strong> </strong>Veilig Verkeer Nederland, afdeling Steenwijkerland, organiseert op woensdga 22 april een scootmobieldag in De Meenthe. Deze dag is voor mensen die hun kennis van verkeersregels willen opfrissen en hun vaardigheden met de scootmobiel willen trainen. 
</p><p>Rij-instructeur Dick Slot geeft uitleg over de belangrijkste verkeersregels. Daarnaast is er gelegenheid om met de scootmobiel te oefenen.
</p><p>De bijeenkomst duurt van 9.30 tot 15.00 uur en is inclusief lunch, koffie, thee of een ander drankje en een scootmobieltocht. Deelname kost 5 euro.
</p><p>Aanmelden kan tot 8 april via scootmobiel@vvnsteenwijkerland.nl of telefonisch via 06-16235375. Daarbij wordt gevraagd eventuele dieetwensen door te geven. </p>
LAST-MODIFIED:20260420T133556Z
LOCATION: Steenwijk, De Meenthe | Stationsplein 1  Steenwijkerland
SEQUENCE:0
STATUS:CONFIRMED
SUMMARY:Scootmobieldag in De Meenthe in Steenwijk
TRANSP:OPAQUE
END:VEVENT
END:VCALENDAR
