BEGIN:VCALENDAR
PRODID:-//PUBBLE//agenda//NL
VERSION:2.0
METHOD:PUBLISH
BEGIN:VEVENT
DTSTART:20260404T092629Z
DTEND:20260404T102629Z
DTSTAMP:20260421T160919Z
UID:011342fa-0d12-4989-9714-960ca6ede44b
CREATED:20260421T160919Z
NAME:Kledingbeurs Oldemarkt viert tienjarig jubileum dekopvan.nl
X-WR-CALNAME:Kledingbeurs Oldemarkt viert tienjarig jubileum
X-ALT-DESC;FMTTYPE=text/html:<a href='/agenda/2026/4/24/kledingbeurs-oldemarkt-viert-tienjarig-jubileum-359491'>/agenda/2026/4/24/kledingbeurs-oldemarkt-viert-tienjarig-jubileum-359491</a> || <p>OLDEMARKT – De tweejaarlijkse kledingbeurs in Oldemarkt viert dit jaar een bijzondere mijlpaal: het tienjarig bestaan. Wat ooit begon als een kleinschalig initiatief, is in de afgelopen jaren uitgegroeid tot een geliefd evenement in de regio waar jong en oud op afkomt.
</p><p>Op vrijdag 24 april van 19.00 tot 21.30 uur en zaterdag 25 april van 11.00 tot 15.00 uur openen de deuren van MFC Dalzicht voor bezoekers die op zoek zijn naar mooie koopjes en duurzame keuzes. Biedt een breed assortiment aan nieuwe en tweedehands kleding voor zowel volwassenen als kinderen.
</p><p><strong>Speelgoed, boeken en puzzels</strong><br>Naast kleding is er ook volop aanbod van speelgoed, boeken en puzzels. Daarmee is de beurs niet alleen interessant voor modeliefhebbers, maar ook voor gezinnen die betaalbaar en bewust willen winkelen.
</p><p><strong>Hergebruik</strong><br>De organisatie is trots op het jubileum en kijkt terug op tien succesvolle jaren waarin hergebruik, gezelligheid en ontmoeting centraal stonden. “We zien dat steeds meer mensen kiezen voor tweedehands. Het is duurzaam én betaalbaar” aldus de organisatie.
</p><p>Bezoekers kunnen rekenen op een gevarieerd aanbod en een gezellige sfeer. Of ze nu op zoek zijn naar een unieke outfit, kinderkleding of een leuk boek, de kledingbeurs in Oldemarkt heeft voor ieder wat wils.
</p><p><span>Met dit jubileum hoopt de organisatie nog meer bezoekers te verwelkomen en het succes van de afgelopen tien jaar voort te zetten.</span>
</p>
DESCRIPTION:<a href='/agenda/2026/4/24/kledingbeurs-oldemarkt-viert-tienjarig-jubileum-359491'>/agenda/2026/4/24/kledingbeurs-oldemarkt-viert-tienjarig-jubileum-359491</a> || <p>OLDEMARKT – De tweejaarlijkse kledingbeurs in Oldemarkt viert dit jaar een bijzondere mijlpaal: het tienjarig bestaan. Wat ooit begon als een kleinschalig initiatief, is in de afgelopen jaren uitgegroeid tot een geliefd evenement in de regio waar jong en oud op afkomt.
</p><p>Op vrijdag 24 april van 19.00 tot 21.30 uur en zaterdag 25 april van 11.00 tot 15.00 uur openen de deuren van MFC Dalzicht voor bezoekers die op zoek zijn naar mooie koopjes en duurzame keuzes. Biedt een breed assortiment aan nieuwe en tweedehands kleding voor zowel volwassenen als kinderen.
</p><p><strong>Speelgoed, boeken en puzzels</strong><br>Naast kleding is er ook volop aanbod van speelgoed, boeken en puzzels. Daarmee is de beurs niet alleen interessant voor modeliefhebbers, maar ook voor gezinnen die betaalbaar en bewust willen winkelen.
</p><p><strong>Hergebruik</strong><br>De organisatie is trots op het jubileum en kijkt terug op tien succesvolle jaren waarin hergebruik, gezelligheid en ontmoeting centraal stonden. “We zien dat steeds meer mensen kiezen voor tweedehands. Het is duurzaam én betaalbaar” aldus de organisatie.
</p><p>Bezoekers kunnen rekenen op een gevarieerd aanbod en een gezellige sfeer. Of ze nu op zoek zijn naar een unieke outfit, kinderkleding of een leuk boek, de kledingbeurs in Oldemarkt heeft voor ieder wat wils.
</p><p><span>Met dit jubileum hoopt de organisatie nog meer bezoekers te verwelkomen en het succes van de afgelopen tien jaar voort te zetten.</span>
</p>
LAST-MODIFIED:20260421T160919Z
LOCATION: Oldemarkt, Dalzicht | Frieseweg 39 Steenwijkerland
SEQUENCE:0
STATUS:CONFIRMED
SUMMARY:Kledingbeurs Oldemarkt viert tienjarig jubileum
TRANSP:OPAQUE
END:VEVENT
END:VCALENDAR
