BEGIN:VCALENDAR
PRODID:-//PUBBLE//agenda//NL
VERSION:2.0
METHOD:PUBLISH
BEGIN:VEVENT
DTSTART:20260407T123110Z
DTEND:20260422T093000Z
DTSTAMP:20260420T133925Z
UID:20ae9303-bff7-4f63-a393-8b0d5e3ed090
CREATED:20260420T133925Z
NAME:School B houdt Open Huis dekopvan.nl
X-WR-CALNAME:School B houdt Open Huis
X-ALT-DESC;FMTTYPE=text/html:<a href='/agenda/2026/4/22/school-b-houdt-open-huis-359671'>/agenda/2026/4/22/school-b-houdt-open-huis-359671</a> || <p>STEENWIJK - Op woensdag 22 april organiseert School B van 8.30-11.30 uur een open huis voor ouders met jonge kinderen die interesse hebben in de school.&nbsp;
</p><p>Tijdens het Open Huis kunnen ouders een kijkje nemen in de school en kennismaken met het onderwijs. Leerlingen van groep 8 leiden hen rond en vertellen graag meer over de school.&nbsp;
</p>
DESCRIPTION:<a href='/agenda/2026/4/22/school-b-houdt-open-huis-359671'>/agenda/2026/4/22/school-b-houdt-open-huis-359671</a> || <p>STEENWIJK - Op woensdag 22 april organiseert School B van 8.30-11.30 uur een open huis voor ouders met jonge kinderen die interesse hebben in de school.&nbsp;
</p><p>Tijdens het Open Huis kunnen ouders een kijkje nemen in de school en kennismaken met het onderwijs. Leerlingen van groep 8 leiden hen rond en vertellen graag meer over de school.&nbsp;
</p>
LAST-MODIFIED:20260420T133925Z
LOCATION: School B | Mr. Zigher ter Steghestraat 3 Steenwijk
SEQUENCE:0
STATUS:CONFIRMED
SUMMARY:School B houdt Open Huis
TRANSP:OPAQUE
END:VEVENT
END:VCALENDAR
