BEGIN:VCALENDAR
PRODID:-//PUBBLE//agenda//NL
VERSION:2.0
METHOD:PUBLISH
BEGIN:VEVENT
DTSTART:20260408T081233Z
DTEND:20260408T091233Z
DTSTAMP:20260420T030733Z
UID:1d0c6fb6-0743-4cec-81c2-e9f4e3376cab
CREATED:20260420T030733Z
NAME:Let’s share the music viering in Kraggenburg heeft als thema ‘Muziek als troost’ dekopvan.nl
X-WR-CALNAME:Let’s share the music viering in Kraggenburg heeft als thema ‘Muziek als troost’
X-ALT-DESC;FMTTYPE=text/html:<a href='/agenda/2026/4/19/lets-share-the-music-viering-in-kraggenburg-heeft-als-thema-muziek-als-troost-359710'>/agenda/2026/4/19/lets-share-the-music-viering-in-kraggenburg-heeft-als-thema-muziek-als-troost-359710</a> || <p>KRAGGENBURG - Op zondagmorgen 19 april wordt er in de Dorpskerk Kraggenburg weer een bijzondere Top2000-dienst gehouden met het thema: ‘Muziek als troost’. 
</p><p>Soms schieten woorden tekort om elkaar te troosten. Dan spreekt muziek. Muziek is krachtig, zeker op momenten dat het donker is in je leven. Je kunt er troost, hoop en kracht uit putten. Deze viering wordt geleid door Johan Wendt samen met de huisband uit Vollenhove. De band brengt bekende Top2000 nummers ten gehore – waaronder ‘Tears in Heaven’ van Eric Clapton en ‘Lichtje branden’ van Suzan &amp; Freek.
</p><p><strong>Laagdrempelig</strong><br><strong>”</strong>Kom zoals je bent en beleef samen een warme, muzikale en laagdrempelige kerkdienst in Kraggenburg!” nodigt de kerk uit. Tijdens de dienst is er voor de basisschooljeugd Kliederkerk en voor de kinderen tot en met 4 jaar is er oppas aanwezig. Er is een collecte voor de instandhouding van deze let’s share the music diensten. Na de dienst is iedereen van welkom om na te praten onder het genot van koffie, thee, ranja en wat lekkers.
</p><p>Aanvang: 10.00 uur. Adres: Voorstraat 21.
</p>
DESCRIPTION:<a href='/agenda/2026/4/19/lets-share-the-music-viering-in-kraggenburg-heeft-als-thema-muziek-als-troost-359710'>/agenda/2026/4/19/lets-share-the-music-viering-in-kraggenburg-heeft-als-thema-muziek-als-troost-359710</a> || <p>KRAGGENBURG - Op zondagmorgen 19 april wordt er in de Dorpskerk Kraggenburg weer een bijzondere Top2000-dienst gehouden met het thema: ‘Muziek als troost’. 
</p><p>Soms schieten woorden tekort om elkaar te troosten. Dan spreekt muziek. Muziek is krachtig, zeker op momenten dat het donker is in je leven. Je kunt er troost, hoop en kracht uit putten. Deze viering wordt geleid door Johan Wendt samen met de huisband uit Vollenhove. De band brengt bekende Top2000 nummers ten gehore – waaronder ‘Tears in Heaven’ van Eric Clapton en ‘Lichtje branden’ van Suzan &amp; Freek.
</p><p><strong>Laagdrempelig</strong><br><strong>”</strong>Kom zoals je bent en beleef samen een warme, muzikale en laagdrempelige kerkdienst in Kraggenburg!” nodigt de kerk uit. Tijdens de dienst is er voor de basisschooljeugd Kliederkerk en voor de kinderen tot en met 4 jaar is er oppas aanwezig. Er is een collecte voor de instandhouding van deze let’s share the music diensten. Na de dienst is iedereen van welkom om na te praten onder het genot van koffie, thee, ranja en wat lekkers.
</p><p>Aanvang: 10.00 uur. Adres: Voorstraat 21.
</p>
LAST-MODIFIED:20260420T030733Z
LOCATION: Kraggenburg, Dorpskerk | Voorstraat 21 Noordoostpolder
SEQUENCE:0
STATUS:CONFIRMED
SUMMARY:Let’s share the music viering in Kraggenburg heeft als thema ‘Muziek als troost’
TRANSP:OPAQUE
END:VEVENT
END:VCALENDAR
