BEGIN:VCALENDAR
PRODID:-//PUBBLE//agenda//NL
VERSION:2.0
METHOD:PUBLISH
BEGIN:VEVENT
DTSTART:20260409T121213Z
DTEND:20260409T131213Z
DTSTAMP:20260420T030727Z
UID:7700123f-a471-4694-9684-88bd9900a766
CREATED:20260420T030727Z
NAME:Benefietconcert voor Oekraïne in Clemenskerk Havelte dekopvan.nl
X-WR-CALNAME:Benefietconcert voor Oekraïne in Clemenskerk Havelte
X-ALT-DESC;FMTTYPE=text/html:<a href='/agenda/2026/4/19/benefietconcert-voor-oekraine-in-clemenskerk-havelte-359849'>/agenda/2026/4/19/benefietconcert-voor-oekraine-in-clemenskerk-havelte-359849</a> || <p>HAVELTE - Op zondag 19 april wordt in de Clemenskerk aan de Uffelterkerkweg 1 in Havelte een benefietconcert gehouden ten behoeve van de stichting Music for Ukraine. 
</p><p>De stichting Music for Ukraine van Oleg Lysenko zamelt geld in voor ambulances en medische hulpgoederen voor het door oorlog geteisterde Oekraïne. Inmiddels zijn er met de opbrengst van eerdere concerten en de actie ‘Even tot hier’ meer dan zeventig ambulances en terreinwagens met medische apparatuur naar Oekraïne gestuurd. Omdat ambulances in oorlogsgebied voortdurend worden beschadigd of vernietigd door drones, raketten en beschietingen, blijft de behoefte onverminderd groot.
</p><p><strong>Gevarieerd programma</strong><br>Het concert biedt een afwisselend programma. Ensemble ‘Bits of Brass’ speelt muziek van klassiek tot jazz. Ensemble ‘Muset’ trakteert op klezmer, de traditionele Jiddische muziekstijl uit Oost-Europa. Vrouwenkwartet ‘Notice’ zingt à capella liederen, en de koren ‘Voices4U’ en ‘De Liesterkrallen’ nodigen het publiek uit om af en toe mee te zingen. Tussendoor zijn er Oekraïense bijdragen en gedichten.
</p><p><strong>Doneren via QR-code</strong><br>Bezoekers worden opgeroepen ruim op tijd aanwezig te zijn vanwege de beperkte plaatsen. Een donatie kan worden gedaan via de QR-code in het programmaboekje. Het concert wordt ook live uitgezonden via pkn-havelte.nl/kerkdienstonline en is naderhand terug te kijken.
</p><p>Het concert begint om 15.00 uur; de deuren openen om 14.30 uur. Het concert is een initiatief van de diaconie PKN Havelte en Bram Castelein.</p>
DESCRIPTION:<a href='/agenda/2026/4/19/benefietconcert-voor-oekraine-in-clemenskerk-havelte-359849'>/agenda/2026/4/19/benefietconcert-voor-oekraine-in-clemenskerk-havelte-359849</a> || <p>HAVELTE - Op zondag 19 april wordt in de Clemenskerk aan de Uffelterkerkweg 1 in Havelte een benefietconcert gehouden ten behoeve van de stichting Music for Ukraine. 
</p><p>De stichting Music for Ukraine van Oleg Lysenko zamelt geld in voor ambulances en medische hulpgoederen voor het door oorlog geteisterde Oekraïne. Inmiddels zijn er met de opbrengst van eerdere concerten en de actie ‘Even tot hier’ meer dan zeventig ambulances en terreinwagens met medische apparatuur naar Oekraïne gestuurd. Omdat ambulances in oorlogsgebied voortdurend worden beschadigd of vernietigd door drones, raketten en beschietingen, blijft de behoefte onverminderd groot.
</p><p><strong>Gevarieerd programma</strong><br>Het concert biedt een afwisselend programma. Ensemble ‘Bits of Brass’ speelt muziek van klassiek tot jazz. Ensemble ‘Muset’ trakteert op klezmer, de traditionele Jiddische muziekstijl uit Oost-Europa. Vrouwenkwartet ‘Notice’ zingt à capella liederen, en de koren ‘Voices4U’ en ‘De Liesterkrallen’ nodigen het publiek uit om af en toe mee te zingen. Tussendoor zijn er Oekraïense bijdragen en gedichten.
</p><p><strong>Doneren via QR-code</strong><br>Bezoekers worden opgeroepen ruim op tijd aanwezig te zijn vanwege de beperkte plaatsen. Een donatie kan worden gedaan via de QR-code in het programmaboekje. Het concert wordt ook live uitgezonden via pkn-havelte.nl/kerkdienstonline en is naderhand terug te kijken.
</p><p>Het concert begint om 15.00 uur; de deuren openen om 14.30 uur. Het concert is een initiatief van de diaconie PKN Havelte en Bram Castelein.</p>
LAST-MODIFIED:20260420T030727Z
LOCATION: Havelte, Clemenskerk | Uffelterkerkweg  1 Westerveld
SEQUENCE:0
STATUS:CONFIRMED
SUMMARY:Benefietconcert voor Oekraïne in Clemenskerk Havelte
TRANSP:OPAQUE
END:VEVENT
END:VCALENDAR
