BEGIN:VCALENDAR
PRODID:-//PUBBLE//agenda//NL
VERSION:2.0
METHOD:PUBLISH
BEGIN:VEVENT
DTSTART:20260410T073833Z
DTEND:20260423T190000Z
DTSTAMP:20260423T132457Z
UID:95f052be-8b5b-4f3d-a408-04e9bd4a5cb2
CREATED:20260423T132457Z
NAME:Boekpresentatie Philip Friskorn: Vogels in actie: Ontdek meer dan 100 jaar vogelfotografie in beweging dekopvan.nl
X-WR-CALNAME:Boekpresentatie Philip Friskorn: Vogels in actie: Ontdek meer dan 100 jaar vogelfotografie in beweging
X-ALT-DESC;FMTTYPE=text/html:<a href='/agenda/2026/4/23/boekpresentatie-philip-friskorn-vogels-in-actie-ontdek-meer-dan-100-jaar-vogelfotografie-in-beweging-359907'>/agenda/2026/4/23/boekpresentatie-philip-friskorn-vogels-in-actie-ontdek-meer-dan-100-jaar-vogelfotografie-in-beweging-359907</a> || <p><strong>STEENWIJK - Op donderdag 23 april presenteert natuurfotograaf Philip Friskorn zijn nieuwe boek </strong><strong><em>Vogels in actie</em></strong><strong> in het Infopunt in Steenwijk. Deze avond wordt georganiseerd door Stichting Duurzaam Steenwijkerland. Tijdens de presentatie neemt Friskorn bezoekers mee in de fascinerende wereld van vogels in beweging én de ontwikkeling van vogelfotografie door de jaren heen.</strong><br><br><strong>De eerste vogelfotografen</strong><br><span>De oorsprong van vogelfotografie gaat terug tot het begin van de negentiende eeuw, met pioniers als Richard Kearton en Richard Tepe. Ook in Nederland legde een groep bevlogen biologiestudenten, onder wie Niko Tinbergen, de basis voor zowel de ethologie als de natuurfotografie. Met eenvoudige apparatuur en veel geduld wisten zij het gedrag van vogels vast te leggen.</span><br><br><strong>Spectaculaire momenten vastleggen</strong><br><span>Ruim 100 jaar later zijn de mogelijkheden enorm veranderd. Dankzij digitale ontwikkelingen kunnen fotografen nu met hoge ISO-waarden en snelle sluitertijden zelfs de snelste vogelbewegingen haarscherp vastleggen. In </span><em>Vogels in actie</em><span> brengt Friskorn deze vooruitgang samen met zijn eigen werk in beeld. Het boek toont indrukwekkende beelden van vogels wereldwijd: van balts en zang tot jacht en baddermomenten. Voor fotografieliefhebbers bevat iedere foto bovendien technische informatie over de gebruikte instellingen en apparatuur.</span><br><br><strong>Van idee naar boek</strong><br><span>De inspiratie voor het boek ontstond na het lezen van </span><em>Scherpstellen</em><span> van Roelke Posthumus. Tijdens de boekpresentatie ontvangt Posthumus dan ook het eerste exemplaar.</span><br><br><strong>Praktische informatie</strong><br><span>De avond vindt plaats van 19.30 tot 21.00 uur in het Infopunt aan de Kerkstraat 4 in Steenwijk. Bezoekers zijn van harte welkom om zich te laten inspireren en samen te proosten op dit bijzondere boek. Aanmelden kan via </span><strong>aanmelden@duurzaamsteenwijkerland.nl</strong></p>
DESCRIPTION:<a href='/agenda/2026/4/23/boekpresentatie-philip-friskorn-vogels-in-actie-ontdek-meer-dan-100-jaar-vogelfotografie-in-beweging-359907'>/agenda/2026/4/23/boekpresentatie-philip-friskorn-vogels-in-actie-ontdek-meer-dan-100-jaar-vogelfotografie-in-beweging-359907</a> || <p><strong>STEENWIJK - Op donderdag 23 april presenteert natuurfotograaf Philip Friskorn zijn nieuwe boek </strong><strong><em>Vogels in actie</em></strong><strong> in het Infopunt in Steenwijk. Deze avond wordt georganiseerd door Stichting Duurzaam Steenwijkerland. Tijdens de presentatie neemt Friskorn bezoekers mee in de fascinerende wereld van vogels in beweging én de ontwikkeling van vogelfotografie door de jaren heen.</strong><br><br><strong>De eerste vogelfotografen</strong><br><span>De oorsprong van vogelfotografie gaat terug tot het begin van de negentiende eeuw, met pioniers als Richard Kearton en Richard Tepe. Ook in Nederland legde een groep bevlogen biologiestudenten, onder wie Niko Tinbergen, de basis voor zowel de ethologie als de natuurfotografie. Met eenvoudige apparatuur en veel geduld wisten zij het gedrag van vogels vast te leggen.</span><br><br><strong>Spectaculaire momenten vastleggen</strong><br><span>Ruim 100 jaar later zijn de mogelijkheden enorm veranderd. Dankzij digitale ontwikkelingen kunnen fotografen nu met hoge ISO-waarden en snelle sluitertijden zelfs de snelste vogelbewegingen haarscherp vastleggen. In </span><em>Vogels in actie</em><span> brengt Friskorn deze vooruitgang samen met zijn eigen werk in beeld. Het boek toont indrukwekkende beelden van vogels wereldwijd: van balts en zang tot jacht en baddermomenten. Voor fotografieliefhebbers bevat iedere foto bovendien technische informatie over de gebruikte instellingen en apparatuur.</span><br><br><strong>Van idee naar boek</strong><br><span>De inspiratie voor het boek ontstond na het lezen van </span><em>Scherpstellen</em><span> van Roelke Posthumus. Tijdens de boekpresentatie ontvangt Posthumus dan ook het eerste exemplaar.</span><br><br><strong>Praktische informatie</strong><br><span>De avond vindt plaats van 19.30 tot 21.00 uur in het Infopunt aan de Kerkstraat 4 in Steenwijk. Bezoekers zijn van harte welkom om zich te laten inspireren en samen te proosten op dit bijzondere boek. Aanmelden kan via </span><strong>aanmelden@duurzaamsteenwijkerland.nl</strong></p>
LAST-MODIFIED:20260423T132457Z
LOCATION: Infopunt Duurzaam Doen | Kerkstraat 4 Steenwijk
SEQUENCE:0
STATUS:CONFIRMED
SUMMARY:Boekpresentatie Philip Friskorn: Vogels in actie: Ontdek meer dan 100 jaar vogelfotografie in beweging
TRANSP:OPAQUE
END:VEVENT
END:VCALENDAR
