BEGIN:VCALENDAR
PRODID:-//PUBBLE//agenda//NL
VERSION:2.0
METHOD:PUBLISH
BEGIN:VEVENT
DTSTART:20260410T075726Z
DTEND:20260425T093000Z
DTSTAMP:20260425T142932Z
UID:49e21d18-d3bf-4a32-9cf8-6c95fa68806e
CREATED:20260425T142932Z
NAME:Ontdek de leukste digitale media voor ukkies in de Bibliotheek Vollenhove dekopvan.nl
X-WR-CALNAME:Ontdek de leukste digitale media voor ukkies in de Bibliotheek Vollenhove
X-ALT-DESC;FMTTYPE=text/html:<a href='/agenda/2026/4/25/ontdek-de-leukste-digitale-media-voor-ukkies-in-de-bibliotheek-vollenhove-359913'>/agenda/2026/4/25/ontdek-de-leukste-digitale-media-voor-ukkies-in-de-bibliotheek-vollenhove-359913</a> || <p>VOLLENHOVE - In april 2026 zijn de landelijke Media Ukkie Dagen, met als thema ‘kleuren, kijken, kletsen’. Op zaterdag 25 april 2026 sluit de Bibliotheek Vollenhove hier in samenwerking met Sociaal Werk De Kop en Actief Steenwijkerland op aan met een Mediaproeverij voor jong en oud.
</p><p>Van 10.30 tot 11.30 uur zijn er verschillende activiteiten gericht op lezen, kijken, luisteren, spelen en doen. Een leuke en leerzame manier voor ouders om samen met hun ukkie kennis te maken met diverse digitale media. Ook ontvangen ouders handige tips om op een fijne en verantwoorde manier met digitale media om te gaan. Deelname is gratis en vooraf aanmelden is niet nodig.
</p><p>Vertelvoorstelling Iedere laatste zaterdag van de maand verzorgt juf Anke een levendige vertelvoorstelling in de Bibliotheek Vollenhove, dus ook op zaterdag 25 april 2026 om 10.30 uur. Deze keer staat het prentenboek ‘We hebben er een geitje bij’ centraal. In de voorstelling gaat Mik naar de kinderboerderij, waar een geitje geboren is. Op de kinderboerderij komt hij met zijn step langs alle dieren (en hun geluid) om uiteindelijk bij het nieuwe geitje aan te komen. Deelname is gratis en vooraf aanmelden is niet nodig.</p>
DESCRIPTION:<a href='/agenda/2026/4/25/ontdek-de-leukste-digitale-media-voor-ukkies-in-de-bibliotheek-vollenhove-359913'>/agenda/2026/4/25/ontdek-de-leukste-digitale-media-voor-ukkies-in-de-bibliotheek-vollenhove-359913</a> || <p>VOLLENHOVE - In april 2026 zijn de landelijke Media Ukkie Dagen, met als thema ‘kleuren, kijken, kletsen’. Op zaterdag 25 april 2026 sluit de Bibliotheek Vollenhove hier in samenwerking met Sociaal Werk De Kop en Actief Steenwijkerland op aan met een Mediaproeverij voor jong en oud.
</p><p>Van 10.30 tot 11.30 uur zijn er verschillende activiteiten gericht op lezen, kijken, luisteren, spelen en doen. Een leuke en leerzame manier voor ouders om samen met hun ukkie kennis te maken met diverse digitale media. Ook ontvangen ouders handige tips om op een fijne en verantwoorde manier met digitale media om te gaan. Deelname is gratis en vooraf aanmelden is niet nodig.
</p><p>Vertelvoorstelling Iedere laatste zaterdag van de maand verzorgt juf Anke een levendige vertelvoorstelling in de Bibliotheek Vollenhove, dus ook op zaterdag 25 april 2026 om 10.30 uur. Deze keer staat het prentenboek ‘We hebben er een geitje bij’ centraal. In de voorstelling gaat Mik naar de kinderboerderij, waar een geitje geboren is. Op de kinderboerderij komt hij met zijn step langs alle dieren (en hun geluid) om uiteindelijk bij het nieuwe geitje aan te komen. Deelname is gratis en vooraf aanmelden is niet nodig.</p>
LAST-MODIFIED:20260425T142932Z
LOCATION: Vollenhove, Bibliotheek | Visschersstraat 34  Steenwijkerland
SEQUENCE:0
STATUS:CONFIRMED
SUMMARY:Ontdek de leukste digitale media voor ukkies in de Bibliotheek Vollenhove
TRANSP:OPAQUE
END:VEVENT
END:VCALENDAR
