BEGIN:VCALENDAR
PRODID:-//PUBBLE//agenda//NL
VERSION:2.0
METHOD:PUBLISH
BEGIN:VEVENT
DTSTART:20260425T123000Z
DTEND:20260425T141500Z
DTSTAMP:20260425T141735Z
UID:acecb5b7-4f85-4a27-8e07-ddcc43239abb
CREATED:20260425T141735Z
NAME:Soos dekopvan.nl
X-WR-CALNAME:Soos
X-ALT-DESC;FMTTYPE=text/html:<a href='/agenda/2026/4/25/soos-360217'>/agenda/2026/4/25/soos-360217</a> || <p>Deze soosmiddag komen Wieja v.d Kamp en Willy Meijering van de Historische vereniging IJsselham, filmpjes laten zien van Old Oldemarkt&nbsp;</p>
DESCRIPTION:<a href='/agenda/2026/4/25/soos-360217'>/agenda/2026/4/25/soos-360217</a> || <p>Deze soosmiddag komen Wieja v.d Kamp en Willy Meijering van de Historische vereniging IJsselham, filmpjes laten zien van Old Oldemarkt&nbsp;</p>
LAST-MODIFIED:20260425T141735Z
LOCATION: Oldemarkt, De Landerijen | de Weeren 1 Steenwijkerland
SEQUENCE:0
STATUS:CONFIRMED
SUMMARY:Soos
TRANSP:OPAQUE
END:VEVENT
END:VCALENDAR
