BEGIN:VCALENDAR
PRODID:-//PUBBLE//agenda//NL
VERSION:2.0
METHOD:PUBLISH
BEGIN:VEVENT
DTSTART:20260414T084006Z
DTEND:20260421T190000Z
DTSTAMP:20260420T134519Z
UID:d5e7dc77-bf3d-4571-8ca6-69f3aabf51ed
CREATED:20260420T134519Z
NAME:Interkerkelijk Gebed Steenwijk dekopvan.nl
X-WR-CALNAME:Interkerkelijk Gebed Steenwijk
X-ALT-DESC;FMTTYPE=text/html:<a href='/agenda/2026/4/21/interkerkelijk-gebed-steenwijk-360263'>/agenda/2026/4/21/interkerkelijk-gebed-steenwijk-360263</a> || <p>STEENWIJK - Op woensdag 21 april is er weer een Interkerkelijk Gebed in Steenwijk. Iedereen is van harte uitgenodigd om mee te bidden van 19.45 tot 21.00 uur in Dit keer in Naast aan de Vrouwenstraat 3 in Steenwijk. De deelnemers gaan God aanbidden en bidden voor Steenwijk en omgeving. Meer informatie bij Peter Dijkstra: 06-40163307.</p>
DESCRIPTION:<a href='/agenda/2026/4/21/interkerkelijk-gebed-steenwijk-360263'>/agenda/2026/4/21/interkerkelijk-gebed-steenwijk-360263</a> || <p>STEENWIJK - Op woensdag 21 april is er weer een Interkerkelijk Gebed in Steenwijk. Iedereen is van harte uitgenodigd om mee te bidden van 19.45 tot 21.00 uur in Dit keer in Naast aan de Vrouwenstraat 3 in Steenwijk. De deelnemers gaan God aanbidden en bidden voor Steenwijk en omgeving. Meer informatie bij Peter Dijkstra: 06-40163307.</p>
LAST-MODIFIED:20260420T134519Z
LOCATION: Steenwijk, Naast | Vrouwenstraat 3  Steenwijkerland
SEQUENCE:0
STATUS:CONFIRMED
SUMMARY:Interkerkelijk Gebed Steenwijk
TRANSP:OPAQUE
END:VEVENT
END:VCALENDAR
