BEGIN:VCALENDAR
PRODID:-//PUBBLE//agenda//NL
VERSION:2.0
METHOD:PUBLISH
BEGIN:VEVENT
DTSTART:20260414T090429Z
DTEND:20260425T133000Z
DTSTAMP:20260424T141725Z
UID:722d9a42-3215-4e38-9868-4a397dc5f96c
CREATED:20260424T141725Z
NAME:Groene Polder Experience op Boerderij de Zuiderkrib in Kraggenburg dekopvan.nl
X-WR-CALNAME:Groene Polder Experience op Boerderij de Zuiderkrib in Kraggenburg
X-ALT-DESC;FMTTYPE=text/html:<a href='/agenda/2026/4/25/groene-polder-experience-op-boerderij-de-zuiderkrib-in-kraggenburg-360266'>/agenda/2026/4/25/groene-polder-experience-op-boerderij-de-zuiderkrib-in-kraggenburg-360266</a> || <p>KRAGGENBURG - Op zaterdag 25 april organiseert Boerderij de Zuiderkrib in de Groene Polder Experience: een dag vol natuur, duurzaamheid en lokale producten.
</p><p>Bezoekers kunnen er terecht voor verse boodschappen rechtstreeks van de boer, van vlees tot eigengemaakte jam. Daarnaast zijn er bio moestuinplantjes, zaden en planten voor een voedselbos of pluktuin, tuinbrocante, handgemaakte broodzakken en advies van eco tuinontwerpers.
</p><p>De hele dag door verzorgen lokale standhouders workshops. Zo kunnen bezoekers me op pad voor wildplukken, zelf een massage-olie maken, een tafereel maken van tuinmateriaal of kleifiguren boetseren met zaden.
</p><p>Voor kinderen is er een speciaal onderdeel: zij mogen een zaadje planten van de Reuzenpompoen. In de herfstvakantie wordt bekeken wie de zwaarste pompoen heeft gekweekt.
</p><p>Tijd: 10.00 tot 15.30 uur. Adres: Zwartemeerweg 62 in Kraggenburg.</p>
DESCRIPTION:<a href='/agenda/2026/4/25/groene-polder-experience-op-boerderij-de-zuiderkrib-in-kraggenburg-360266'>/agenda/2026/4/25/groene-polder-experience-op-boerderij-de-zuiderkrib-in-kraggenburg-360266</a> || <p>KRAGGENBURG - Op zaterdag 25 april organiseert Boerderij de Zuiderkrib in de Groene Polder Experience: een dag vol natuur, duurzaamheid en lokale producten.
</p><p>Bezoekers kunnen er terecht voor verse boodschappen rechtstreeks van de boer, van vlees tot eigengemaakte jam. Daarnaast zijn er bio moestuinplantjes, zaden en planten voor een voedselbos of pluktuin, tuinbrocante, handgemaakte broodzakken en advies van eco tuinontwerpers.
</p><p>De hele dag door verzorgen lokale standhouders workshops. Zo kunnen bezoekers me op pad voor wildplukken, zelf een massage-olie maken, een tafereel maken van tuinmateriaal of kleifiguren boetseren met zaden.
</p><p>Voor kinderen is er een speciaal onderdeel: zij mogen een zaadje planten van de Reuzenpompoen. In de herfstvakantie wordt bekeken wie de zwaarste pompoen heeft gekweekt.
</p><p>Tijd: 10.00 tot 15.30 uur. Adres: Zwartemeerweg 62 in Kraggenburg.</p>
LAST-MODIFIED:20260424T141725Z
LOCATION: Kraggenburg, De Zuiderkrib | Zwartemeerweg  62 Noordoostpolder
SEQUENCE:0
STATUS:CONFIRMED
SUMMARY:Groene Polder Experience op Boerderij de Zuiderkrib in Kraggenburg
TRANSP:OPAQUE
END:VEVENT
END:VCALENDAR
