BEGIN:VCALENDAR
PRODID:-//PUBBLE//agenda//NL
VERSION:2.0
METHOD:PUBLISH
BEGIN:VEVENT
DTSTART:20260414T091254Z
DTEND:20260414T101254Z
DTSTAMP:20260422T133940Z
UID:a46e589f-ba15-4f4b-84e3-2961f57c8213
CREATED:20260422T133940Z
NAME:Henk van Heerde geeft lezing over oude familienamen in Vollenhove: Echte Venosen dekopvan.nl
X-WR-CALNAME:Henk van Heerde geeft lezing over oude familienamen in Vollenhove: Echte Venosen
X-ALT-DESC;FMTTYPE=text/html:<a href='/agenda/2026/4/22/henk-van-heerde-geeft-lezing-over-oude-familienamen-in-vollenhove-echte-venosen-360269'>/agenda/2026/4/22/henk-van-heerde-geeft-lezing-over-oude-familienamen-in-vollenhove-echte-venosen-360269</a> || <p>VOLLENHOVE - In het stadsmuseum zal Henk van Heerde op woensdagavond 22 april vertellen over de herkomst van een aantal bekende achternamen in Vollenhove.</p><p>Namen als Dikken, Jongman, Visscher, Spit, Van Smirren, en IJspeert komen daar al heel lang voor. Zo blijken meerdere families dezelfde stamvader te hebben. En zijn er in de 19e&nbsp;eeuw diverse families uit Beulake in de stad Vollenhove neergestreken. De overgang van bestuursstad naar één van boeren en vissers zorgde voor immigranten uit Schokland en allerlei streken in Overijssel en Gelderland.</p><p>Bij de presentatie verteld Van Heerde wie dat waren en hoe het ze verder is vergaan in Vollenhove. Daarbij komen ook bijzondere gebeurtenissen naar boven over soldaten van ‘het fort’ die hier een gezin stichtten.</p><p>Aanvang is 20.00 uur, toegang is € 6 (voor donateurs € 3) inclusief een kop koffie/thee. Bisschopstraat 36, Vollenhove. Reserveren is nodig: aan de balie of via e-mail&nbsp;reserveringen@chcvollenhove.nl.</p>
DESCRIPTION:<a href='/agenda/2026/4/22/henk-van-heerde-geeft-lezing-over-oude-familienamen-in-vollenhove-echte-venosen-360269'>/agenda/2026/4/22/henk-van-heerde-geeft-lezing-over-oude-familienamen-in-vollenhove-echte-venosen-360269</a> || <p>VOLLENHOVE - In het stadsmuseum zal Henk van Heerde op woensdagavond 22 april vertellen over de herkomst van een aantal bekende achternamen in Vollenhove.</p><p>Namen als Dikken, Jongman, Visscher, Spit, Van Smirren, en IJspeert komen daar al heel lang voor. Zo blijken meerdere families dezelfde stamvader te hebben. En zijn er in de 19e&nbsp;eeuw diverse families uit Beulake in de stad Vollenhove neergestreken. De overgang van bestuursstad naar één van boeren en vissers zorgde voor immigranten uit Schokland en allerlei streken in Overijssel en Gelderland.</p><p>Bij de presentatie verteld Van Heerde wie dat waren en hoe het ze verder is vergaan in Vollenhove. Daarbij komen ook bijzondere gebeurtenissen naar boven over soldaten van ‘het fort’ die hier een gezin stichtten.</p><p>Aanvang is 20.00 uur, toegang is € 6 (voor donateurs € 3) inclusief een kop koffie/thee. Bisschopstraat 36, Vollenhove. Reserveren is nodig: aan de balie of via e-mail&nbsp;reserveringen@chcvollenhove.nl.</p>
LAST-MODIFIED:20260422T133940Z
LOCATION: Vollenhove,  | Bisschopstraat 36  Steenwijkerland
SEQUENCE:0
STATUS:CONFIRMED
SUMMARY:Henk van Heerde geeft lezing over oude familienamen in Vollenhove: Echte Venosen
TRANSP:OPAQUE
END:VEVENT
END:VCALENDAR
