BEGIN:VCALENDAR
PRODID:-//PUBBLE//agenda//NL
VERSION:2.0
METHOD:PUBLISH
BEGIN:VEVENT
DTSTART:20260415T133857Z
DTEND:20260415T143857Z
DTSTAMP:20260423T132512Z
UID:a5c4768a-5fae-470f-bc41-97d01e6f6739
CREATED:20260423T132512Z
NAME:Filmhuis vertoont warme en bijzondere film Rental Family dekopvan.nl
X-WR-CALNAME:Filmhuis vertoont warme en bijzondere film Rental Family
X-ALT-DESC;FMTTYPE=text/html:<a href='/agenda/2026/4/23/filmhuis-vertoont-warme-en-bijzondere-film-rental-family-360394'>/agenda/2026/4/23/filmhuis-vertoont-warme-en-bijzondere-film-rental-family-360394</a> || <p><strong><span>STEENWIJK –</span></strong><span> </span><strong><span>Een eenzame, aan lagerwal geraakte Amerikaanse acteur (Brendan Fraser) die in Tokio woont, gaat aan de slag bij een Japans “rental family”-bedrijf om uiteenlopende stand-in rollen in het leven van anderen te spelen. Gaandeweg ontdekt hij onverwacht geluk binnen zijn nieuwe, samengestelde familie. De film ‘Rental Family’ is te zien op 23 april.</span></strong>
</p><p pstyle="x_MsoNormal"><strong><span>Rental Family</span></strong><br><span>In het hedendaagse Tokio, volgt ‘Rental Family’ een Amerikaanse acteur (Brendan Fraser) die worstelt om betekenis te vinden in zijn leven, totdat hij een bijzondere baan krijgt: werken voor een Japans “rental family”-bureau, waar hij ingehuurde rollen speelt voor vreemden. Terwijl hij zich steeds dieper inleeft in de werelden van zijn cliënten, begint hij echte banden te vormen die de grenzen tussen spel en werkelijkheid doen vervagen. Geconfronteerd met de morele complexiteit van zijn werk, herontdekt hij zijn doel, verbondenheid en de verborgen schoonheid van menselijke connecties. De filmvertoning ‘Rental Family’ is te zien op donderdag 23 april.</span>
</p><p pstyle="x_MsoNormal"><strong><span>Nog meer te zien: </span></strong><span>Sorry, Baby op donderdag 30 april. Amrum op 7 mei. The Secret Agent op 15 mei. Whispers in the Woods op 19 mei. Sound of Falling op 26 mei. Gioia Mia op 3 juni. Sirât op 10 juni. L’Étranger op 18 juni. Porte Bagage op 25 juni.</span>
</p><p pstyle="x_MsoNormal"><span>&nbsp;</span></p>
DESCRIPTION:<a href='/agenda/2026/4/23/filmhuis-vertoont-warme-en-bijzondere-film-rental-family-360394'>/agenda/2026/4/23/filmhuis-vertoont-warme-en-bijzondere-film-rental-family-360394</a> || <p><strong><span>STEENWIJK –</span></strong><span> </span><strong><span>Een eenzame, aan lagerwal geraakte Amerikaanse acteur (Brendan Fraser) die in Tokio woont, gaat aan de slag bij een Japans “rental family”-bedrijf om uiteenlopende stand-in rollen in het leven van anderen te spelen. Gaandeweg ontdekt hij onverwacht geluk binnen zijn nieuwe, samengestelde familie. De film ‘Rental Family’ is te zien op 23 april.</span></strong>
</p><p pstyle="x_MsoNormal"><strong><span>Rental Family</span></strong><br><span>In het hedendaagse Tokio, volgt ‘Rental Family’ een Amerikaanse acteur (Brendan Fraser) die worstelt om betekenis te vinden in zijn leven, totdat hij een bijzondere baan krijgt: werken voor een Japans “rental family”-bureau, waar hij ingehuurde rollen speelt voor vreemden. Terwijl hij zich steeds dieper inleeft in de werelden van zijn cliënten, begint hij echte banden te vormen die de grenzen tussen spel en werkelijkheid doen vervagen. Geconfronteerd met de morele complexiteit van zijn werk, herontdekt hij zijn doel, verbondenheid en de verborgen schoonheid van menselijke connecties. De filmvertoning ‘Rental Family’ is te zien op donderdag 23 april.</span>
</p><p pstyle="x_MsoNormal"><strong><span>Nog meer te zien: </span></strong><span>Sorry, Baby op donderdag 30 april. Amrum op 7 mei. The Secret Agent op 15 mei. Whispers in the Woods op 19 mei. Sound of Falling op 26 mei. Gioia Mia op 3 juni. Sirât op 10 juni. L’Étranger op 18 juni. Porte Bagage op 25 juni.</span>
</p><p pstyle="x_MsoNormal"><span>&nbsp;</span></p>
LAST-MODIFIED:20260423T132512Z
LOCATION: Rabo Theater De Meenthe | Stationsplein  1 Steenwijk
SEQUENCE:0
STATUS:CONFIRMED
SUMMARY:Filmhuis vertoont warme en bijzondere film Rental Family
TRANSP:OPAQUE
END:VEVENT
END:VCALENDAR
