BEGIN:VCALENDAR
PRODID:-//PUBBLE//agenda//NL
VERSION:2.0
METHOD:PUBLISH
BEGIN:VEVENT
DTSTART:20260416T115523Z
DTEND:20260416T125523Z
DTSTAMP:20260421T085141Z
UID:af0da9b7-e336-4517-9874-be06ee25bd81
CREATED:20260421T085141Z
NAME:Wandelfestijn St. Christoffel viert 19e editie in Steenwijkerwold dekopvan.nl
X-WR-CALNAME:Wandelfestijn St. Christoffel viert 19e editie in Steenwijkerwold
X-ALT-DESC;FMTTYPE=text/html:<a href='/agenda/2026/5/14/wandelfestijn-st-christoffel-viert-19e-editie-in-steenwijkerwold-360493'>/agenda/2026/5/14/wandelfestijn-st-christoffel-viert-19e-editie-in-steenwijkerwold-360493</a> || <p>STEENWIJKERWOLD - Op donderdag 14 mei vindt in Steenwijkerwold de 19e editie plaats van het Wandelfestijn St. Christoffel. Het evenement wordt georganiseerd door het vrijwilligersteam van Dorpsbelang Steenwijkerwold en trekt jaarlijks wandelaars uit de regio.
</p><p>Deelnemers kunnen kiezen uit vier routes van circa 10, 15, 20 of 30 kilometer, allemaal door de gevarieerde en wandelrijke omgeving van de Kop van Overijssel. Honden zijn welkom, mits aangelijnd.
</p><p>Het startpunt is M.F.C. Hoogthij aan de Oldemarktseweg 117 in Steenwijkerwold. Inschrijven en starten is mogelijk tussen 07.30 en 11.30 uur. De sluiting is om 17.00 uur.
</p><p>Deelname kost €6,00 per persoon; Bondsleden betalen €5,00. Betaling kan via QR-code. In de deelnameprijs is een consumptiebon inbegrepen.
</p><p>Voor meer actuele informatie: gh.dolstra@gmail.com, www.facebook.com/wandelfestijn of steenwijkerwold.eu.</p>
DESCRIPTION:<a href='/agenda/2026/5/14/wandelfestijn-st-christoffel-viert-19e-editie-in-steenwijkerwold-360493'>/agenda/2026/5/14/wandelfestijn-st-christoffel-viert-19e-editie-in-steenwijkerwold-360493</a> || <p>STEENWIJKERWOLD - Op donderdag 14 mei vindt in Steenwijkerwold de 19e editie plaats van het Wandelfestijn St. Christoffel. Het evenement wordt georganiseerd door het vrijwilligersteam van Dorpsbelang Steenwijkerwold en trekt jaarlijks wandelaars uit de regio.
</p><p>Deelnemers kunnen kiezen uit vier routes van circa 10, 15, 20 of 30 kilometer, allemaal door de gevarieerde en wandelrijke omgeving van de Kop van Overijssel. Honden zijn welkom, mits aangelijnd.
</p><p>Het startpunt is M.F.C. Hoogthij aan de Oldemarktseweg 117 in Steenwijkerwold. Inschrijven en starten is mogelijk tussen 07.30 en 11.30 uur. De sluiting is om 17.00 uur.
</p><p>Deelname kost €6,00 per persoon; Bondsleden betalen €5,00. Betaling kan via QR-code. In de deelnameprijs is een consumptiebon inbegrepen.
</p><p>Voor meer actuele informatie: gh.dolstra@gmail.com, www.facebook.com/wandelfestijn of steenwijkerwold.eu.</p>
LAST-MODIFIED:20260421T085141Z
LOCATION: Steenwijkerwold, MFC Hoogthij | Oldemarktseweg 117  Steenwijkerland
SEQUENCE:0
STATUS:CONFIRMED
SUMMARY:Wandelfestijn St. Christoffel viert 19e editie in Steenwijkerwold
TRANSP:OPAQUE
END:VEVENT
END:VCALENDAR
