BEGIN:VCALENDAR
PRODID:-//PUBBLE//agenda//NL
VERSION:2.0
METHOD:PUBLISH
BEGIN:VEVENT
DTSTART:20260422T180000Z
DTEND:20260422T190000Z
DTSTAMP:20260422T134055Z
UID:76547919-a868-4258-9f61-3d12a9f13505
CREATED:20260422T134055Z
NAME:Algemene Ledenvergadering Plaatselijk Belang Blokzijl dekopvan.nl
X-WR-CALNAME:Algemene Ledenvergadering Plaatselijk Belang Blokzijl
X-ALT-DESC;FMTTYPE=text/html:<a href='/agenda/2026/4/22/algemene-ledenvergadering-plaatselijk-belang-blokzijl-360537'>/agenda/2026/4/22/algemene-ledenvergadering-plaatselijk-belang-blokzijl-360537</a> || <p>Plaatselijk Belang Blokzijl houdt op op 22 april in de Ploats haar Algemene Ledenvergadering. </p><p>De aanvang is om 20.00 uur. Inloop vanaf 19.45 uur. Ook niet-leden zijn van harte welkom.</p>
DESCRIPTION:<a href='/agenda/2026/4/22/algemene-ledenvergadering-plaatselijk-belang-blokzijl-360537'>/agenda/2026/4/22/algemene-ledenvergadering-plaatselijk-belang-blokzijl-360537</a> || <p>Plaatselijk Belang Blokzijl houdt op op 22 april in de Ploats haar Algemene Ledenvergadering. </p><p>De aanvang is om 20.00 uur. Inloop vanaf 19.45 uur. Ook niet-leden zijn van harte welkom.</p>
LAST-MODIFIED:20260422T134055Z
LOCATION: Blokzijl, MFC De Ploats | Groenestraat 18 Steenwijkerland
SEQUENCE:0
STATUS:CONFIRMED
SUMMARY:Algemene Ledenvergadering Plaatselijk Belang Blokzijl
TRANSP:OPAQUE
END:VEVENT
END:VCALENDAR
