BEGIN:VCALENDAR
PRODID:-//PUBBLE//agenda//NL
VERSION:2.0
METHOD:PUBLISH
BEGIN:VEVENT
DTSTART:20260422T123000Z
DTEND:20260422T140000Z
DTSTAMP:20260420T133925Z
UID:73a0402e-caa3-4f20-8a9e-720e719edbbe
CREATED:20260420T133925Z
NAME:Alzheimer Trefpunt dekopvan.nl
X-WR-CALNAME:Alzheimer Trefpunt
X-ALT-DESC;FMTTYPE=text/html:<a href='/agenda/2026/4/22/alzheimer-trefpunt-360543'>/agenda/2026/4/22/alzheimer-trefpunt-360543</a> || <p>Woensdagmiddag 22 april is er van 14:30 tot 16:00 uur Alzheimer Trefpunt in de Dementheek. De Dementheek is in Zonnekamp, gelijk na de ingang links, adres Oyershoeve 1 in Steenwijk. In de Dementheek is heel veel informatie te vinden over dementie en meer. Een fijne plek voor een Alzheimer trefpunt. Met ruimte om ervaringen te delen en gezelligheid. Iedereen is welkom!</p>
DESCRIPTION:<a href='/agenda/2026/4/22/alzheimer-trefpunt-360543'>/agenda/2026/4/22/alzheimer-trefpunt-360543</a> || <p>Woensdagmiddag 22 april is er van 14:30 tot 16:00 uur Alzheimer Trefpunt in de Dementheek. De Dementheek is in Zonnekamp, gelijk na de ingang links, adres Oyershoeve 1 in Steenwijk. In de Dementheek is heel veel informatie te vinden over dementie en meer. Een fijne plek voor een Alzheimer trefpunt. Met ruimte om ervaringen te delen en gezelligheid. Iedereen is welkom!</p>
LAST-MODIFIED:20260420T133925Z
LOCATION: Steenwijk, Zonnekamp | Oyershoeve 1  Steenwijkerland
SEQUENCE:0
STATUS:CONFIRMED
SUMMARY:Alzheimer Trefpunt
TRANSP:OPAQUE
END:VEVENT
END:VCALENDAR
