BEGIN:VCALENDAR
PRODID:-//PUBBLE//agenda//NL
VERSION:2.0
METHOD:PUBLISH
BEGIN:VEVENT
DTSTART:20260416T174729Z
DTEND:20260416T184729Z
DTSTAMP:20260423T132221Z
UID:13ab3858-12e8-45f1-b50c-9fccbe5439fa
CREATED:20260423T132221Z
NAME:‘Je Anne’, de musical over het wereldberoemde dagboek komt naar Steenwijk dekopvan.nl
X-WR-CALNAME:‘Je Anne’, de musical over het wereldberoemde dagboek komt naar Steenwijk
X-ALT-DESC;FMTTYPE=text/html:<a href='/agenda/2026/4/24/je-anne-de-musical-over-het-wereldberoemde-dagboek-komt-naar-steenwijk-360545'>/agenda/2026/4/24/je-anne-de-musical-over-het-wereldberoemde-dagboek-komt-naar-steenwijk-360545</a> || <p>STEENWIJK - Het tijdloze verhaal uit de dagboeken van Anne Frank keert terug in de theaters. Op 24 april komt de bijzondere theatervoorstelling ‘Je Anne’ naar Theater De Meenthe in Steenwijk. Deze musical brengt het verhaal van Anne Frank op een unieke en integere manier tot leven. De hoofdrol wordt vertolkt door Marcela Rocha, zij neemt de rol van Anne over van haar zus Silvana Rocha die Anne in 2024 vertolkte. Met deze wisseling krijgt de slotreeks van Je Anne een extra persoonlijke en emotionele dimensie.</p><p>Aanvang: 20:00 uur, kaarten: www.demeenthe.nl.</p>
DESCRIPTION:<a href='/agenda/2026/4/24/je-anne-de-musical-over-het-wereldberoemde-dagboek-komt-naar-steenwijk-360545'>/agenda/2026/4/24/je-anne-de-musical-over-het-wereldberoemde-dagboek-komt-naar-steenwijk-360545</a> || <p>STEENWIJK - Het tijdloze verhaal uit de dagboeken van Anne Frank keert terug in de theaters. Op 24 april komt de bijzondere theatervoorstelling ‘Je Anne’ naar Theater De Meenthe in Steenwijk. Deze musical brengt het verhaal van Anne Frank op een unieke en integere manier tot leven. De hoofdrol wordt vertolkt door Marcela Rocha, zij neemt de rol van Anne over van haar zus Silvana Rocha die Anne in 2024 vertolkte. Met deze wisseling krijgt de slotreeks van Je Anne een extra persoonlijke en emotionele dimensie.</p><p>Aanvang: 20:00 uur, kaarten: www.demeenthe.nl.</p>
LAST-MODIFIED:20260423T132221Z
LOCATION: Rabo Theater De Meenthe | Stationsplein  1 Steenwijk
SEQUENCE:0
STATUS:CONFIRMED
SUMMARY:‘Je Anne’, de musical over het wereldberoemde dagboek komt naar Steenwijk
TRANSP:OPAQUE
END:VEVENT
END:VCALENDAR
