BEGIN:VCALENDAR
PRODID:-//PUBBLE//agenda//NL
VERSION:2.0
METHOD:PUBLISH
BEGIN:VEVENT
DTSTART:20260424T123000Z
DTEND:20260424T133000Z
DTSTAMP:20260423T132058Z
UID:a92bef61-6093-4bfc-ae04-653e9c50662a
CREATED:20260423T132058Z
NAME:Bingo-middag in De Vierhoek dekopvan.nl
X-WR-CALNAME:Bingo-middag in De Vierhoek
X-ALT-DESC;FMTTYPE=text/html:<a href='/agenda/2026/4/24/bingo-middag-in-de-vierhoek-360546'>/agenda/2026/4/24/bingo-middag-in-de-vierhoek-360546</a> || <p>Het Comité Welzijn Ouderen organiseert in samenwerking met de Ouderenvereniging Blokzijl op vrijdag 24 april een gezellige bingo-middag in seniorencomplex De Vierhoek. Er zijn op deze middag weer een aantal leuke prijzen te winnen.</p><p>De middag begint om 14.30 uur en de entree bedraagt €4,00 per persoon (inclusief koffie of thee).</p><p>Bewoners van De Vierhoek en ook andere belangstellenden zijn van harte welkom!</p>
DESCRIPTION:<a href='/agenda/2026/4/24/bingo-middag-in-de-vierhoek-360546'>/agenda/2026/4/24/bingo-middag-in-de-vierhoek-360546</a> || <p>Het Comité Welzijn Ouderen organiseert in samenwerking met de Ouderenvereniging Blokzijl op vrijdag 24 april een gezellige bingo-middag in seniorencomplex De Vierhoek. Er zijn op deze middag weer een aantal leuke prijzen te winnen.</p><p>De middag begint om 14.30 uur en de entree bedraagt €4,00 per persoon (inclusief koffie of thee).</p><p>Bewoners van De Vierhoek en ook andere belangstellenden zijn van harte welkom!</p>
LAST-MODIFIED:20260423T132058Z
LOCATION: Blokzijl, De Vierhoek | Boffersweidje 4 
SEQUENCE:0
STATUS:CONFIRMED
SUMMARY:Bingo-middag in De Vierhoek
TRANSP:OPAQUE
END:VEVENT
END:VCALENDAR
