BEGIN:VCALENDAR
PRODID:-//PUBBLE//agenda//NL
VERSION:2.0
METHOD:PUBLISH
BEGIN:VEVENT
DTSTART:20260502T070000Z
DTEND:20260502T090000Z
DTSTAMP:20260421T124710Z
UID:e2150ee1-0cdd-4b7f-87dc-8e515880658d
CREATED:20260421T124710Z
NAME:Mannenwandeling in Havelte dekopvan.nl
X-WR-CALNAME:Mannenwandeling in Havelte
X-ALT-DESC;FMTTYPE=text/html:<a href='/agenda/2026/5/2/mannenwandeling-in-havelte-360641'>/agenda/2026/5/2/mannenwandeling-in-havelte-360641</a> || <p>Zaterdag 2 mei van 9.00 tot ongeveer 11.00 gaan we weer een mannenwandeling houden met mannen uit gemeente Beth-El in Steenwijk en daarbuiten. Samen met andere mannen de natuur in. We beginnen bij de toegangspoort Holtingerveld (nabij Havelte) aan de Helomaweg; daar is een grote parkeerplaats. Samen wandelen. Halverwege een bakkie koffie/thee met iets lekkers in de rugzak. Meer dan welkom! We zien naar jullie uit! &nbsp;Tel: 06-40163307. Website: www.vzgbethel.nl</p>
DESCRIPTION:<a href='/agenda/2026/5/2/mannenwandeling-in-havelte-360641'>/agenda/2026/5/2/mannenwandeling-in-havelte-360641</a> || <p>Zaterdag 2 mei van 9.00 tot ongeveer 11.00 gaan we weer een mannenwandeling houden met mannen uit gemeente Beth-El in Steenwijk en daarbuiten. Samen met andere mannen de natuur in. We beginnen bij de toegangspoort Holtingerveld (nabij Havelte) aan de Helomaweg; daar is een grote parkeerplaats. Samen wandelen. Halverwege een bakkie koffie/thee met iets lekkers in de rugzak. Meer dan welkom! We zien naar jullie uit! &nbsp;Tel: 06-40163307. Website: www.vzgbethel.nl</p>
LAST-MODIFIED:20260421T124710Z
LOCATION: Havelte, Toegangspoort Holtingerveld | Helomaweg 18 Westerveld
SEQUENCE:0
STATUS:CONFIRMED
SUMMARY:Mannenwandeling in Havelte
TRANSP:OPAQUE
END:VEVENT
END:VCALENDAR
